BEGIN:VCALENDAR
VERSION:2.0
PRODID:-//Longford Parish Council//Meeting Calendar//EN
CALSCALE:GREGORIAN
METHOD:PUBLISH
BEGIN:VEVENT
UID:70947-20251104@longford-pc.gov.uk
DTSTAMP:20260422T084751Z
DTSTART;VALUE=DATE:20251104
DTEND;VALUE=DATE:20251105
SUMMARY:Council Meeting &#8211\\; 4th November 2025
DESCRIPTION:Full Council Meeting\nView details: https://longford-pc.gov.uk/meetings/council-meeting-4th-november-2025/
URL:https://longford-pc.gov.uk/meetings/council-meeting-4th-november-2025/
END:VEVENT
END:VCALENDAR
